

BEGIN:VCALENDAR
VERSION:2.0
PRODID:-//hacksw/handcal//NONSGML v1.0//EN
CALSCALE:GREGORIAN
BEGIN:VEVENT
DTEND:20190620T220000
UID:5c76d817da5a3
DTSTAMP:20190228T053359
LOCATION:Mercure Hotel Cnr Flemington Rd and Harker St North Melbourne 3051 VIC
DESCRIPTION:
URL;VALUE=URI:http://www.rotarynorthmelbourne.org.au/event/37857
SUMMARY:Combined Meeting - Rotary Club of North Melbourne and Rotary Club of South Bank  
DTSTART:20190620T190000
END:VEVENT
END:VCALENDAR

