

BEGIN:VCALENDAR
VERSION:2.0
PRODID:-//hacksw/handcal//NONSGML v1.0//EN
CALSCALE:GREGORIAN
BEGIN:VEVENT
DTEND:20190307T090000
UID:5c76d82770466
DTSTAMP:20190228T053415
LOCATION:The Palladium at Crown http://www.rotaryiwdbreakfast.org.au/ South Bank  VIC
DESCRIPTION:
URL;VALUE=URI:http://www.rotarynorthmelbourne.org.au/event/37782
SUMMARY:International Women's Day Breakfast
DTSTART:20190307T063000
END:VEVENT
END:VCALENDAR

