

BEGIN:VCALENDAR
VERSION:2.0
PRODID:-//hacksw/handcal//NONSGML v1.0//EN
CALSCALE:GREGORIAN
BEGIN:VEVENT
DTEND:20190215T203000
UID:5c76d88510373
DTSTAMP:20190228T053549
LOCATION:Belgian Beer Cafe 5 Riverside Quay Southbank  VIC
DESCRIPTION:
URL;VALUE=URI:http://www.rotarynorthmelbourne.org.au/event/37781
SUMMARY:Conference Club Dinner at The Belgian Beer Cafe
DTSTART:20190215T190000
END:VEVENT
END:VCALENDAR

