

BEGIN:VCALENDAR
VERSION:2.0
PRODID:-//hacksw/handcal//NONSGML v1.0//EN
CALSCALE:GREGORIAN
BEGIN:VEVENT
DTEND:20180511T084500
UID:5c76d88ae970d
DTSTAMP:20190228T053554
LOCATION:Mercure Hotel Cnr Flemington Rd and Harker St North Melbourne 3051 VIC
DESCRIPTION:
URL;VALUE=URI:http://www.rotarynorthmelbourne.org.au/event/33873
SUMMARY:Breakfast Meeting
DTSTART:20180511T074500
END:VEVENT
END:VCALENDAR

