

BEGIN:VCALENDAR
VERSION:2.0
PRODID:-//hacksw/handcal//NONSGML v1.0//EN
CALSCALE:GREGORIAN
BEGIN:VEVENT
DTEND:20180621T000000
UID:5c76d882b66c5
DTSTAMP:20190228T053546
LOCATION:Mercure Hotel Cnr Flemington Rd and Harker St North Melbourne 3051 VIC
DESCRIPTION:
URL;VALUE=URI:http://www.rotarynorthmelbourne.org.au/event/33684
SUMMARY:Dinner Meeting
DTSTART:20180621T000000
END:VEVENT
END:VCALENDAR

