

BEGIN:VCALENDAR
VERSION:2.0
PRODID:-//hacksw/handcal//NONSGML v1.0//EN
CALSCALE:GREGORIAN
BEGIN:VEVENT
DTEND:20180427T084500
UID:5c76d8984e41d
DTSTAMP:20190228T053608
LOCATION:Mercure Hotel Cnr Flemington Rd and Harker St North Melbourne 3051 VIC
DESCRIPTION:
URL;VALUE=URI:http://www.rotarynorthmelbourne.org.au/event/33682
SUMMARY:Breakfast Meeting
DTSTART:20180427T074500
END:VEVENT
END:VCALENDAR

