

BEGIN:VCALENDAR
VERSION:2.0
PRODID:-//hacksw/handcal//NONSGML v1.0//EN
CALSCALE:GREGORIAN
BEGIN:VEVENT
DTEND:20180419T083000
UID:5c76d89e82958
DTSTAMP:20190228T053614
LOCATION:Mercure Hotel Cnr Flemington Rd and Harker St North Melbourne 3051 VIC
DESCRIPTION:
URL;VALUE=URI:http://www.rotarynorthmelbourne.org.au/event/33474
SUMMARY:Dinner Meeting
DTSTART:20180419T064500
END:VEVENT
END:VCALENDAR

