

BEGIN:VCALENDAR
VERSION:2.0
PRODID:-//hacksw/handcal//NONSGML v1.0//EN
CALSCALE:GREGORIAN
BEGIN:VEVENT
DTEND:20180405T084500
UID:5c76d8abbdd47
DTSTAMP:20190228T053627
LOCATION:Mercure Hotel Cnr Flemington Rd and Harker St North Melbourne 3051 VIC
DESCRIPTION:
URL;VALUE=URI:http://www.rotarynorthmelbourne.org.au/event/33348
SUMMARY:Meeting
DTSTART:20180405T064500
END:VEVENT
END:VCALENDAR

