

BEGIN:VCALENDAR
VERSION:2.0
PRODID:-//hacksw/handcal//NONSGML v1.0//EN
CALSCALE:GREGORIAN
BEGIN:VEVENT
DTEND:20180323T084500
UID:5c76d8b1df566
DTSTAMP:20190228T053633
LOCATION:Mercure Hotel Cnr Flemington Rd and Harker St North Melbourne 3051 VIC
DESCRIPTION:
URL;VALUE=URI:http://www.rotarynorthmelbourne.org.au/event/33188
SUMMARY:Meeting
DTSTART:20180323T074500
END:VEVENT
END:VCALENDAR

