

BEGIN:VCALENDAR
VERSION:2.0
PRODID:-//hacksw/handcal//NONSGML v1.0//EN
CALSCALE:GREGORIAN
BEGIN:VEVENT
DTEND:20180215T203000
UID:5c76d8e19c8b0
DTSTAMP:20190228T053721
LOCATION:Mercure Hotel Cnr Flemington Rd and Harker St North Melbourne  VIC
DESCRIPTION:
URL;VALUE=URI:http://www.rotarynorthmelbourne.org.au/event/32572
SUMMARY:Meeting
DTSTART:20180215T184500
END:VEVENT
END:VCALENDAR

