

BEGIN:VCALENDAR
VERSION:2.0
PRODID:-//hacksw/handcal//NONSGML v1.0//EN
CALSCALE:GREGORIAN
BEGIN:VEVENT
DTEND:20171110T084500
UID:5c76d931a155f
DTSTAMP:20190228T053841
LOCATION:Mercure Hotel Cnr Flemington Rd and Harker St North Melbourne  VIC
DESCRIPTION:
URL;VALUE=URI:http://www.rotarynorthmelbourne.org.au/event/26352
SUMMARY:Meeting
DTSTART:20171110T074500
END:VEVENT
END:VCALENDAR

