

BEGIN:VCALENDAR
VERSION:2.0
PRODID:-//hacksw/handcal//NONSGML v1.0//EN
CALSCALE:GREGORIAN
BEGIN:VEVENT
DTEND:20171102T203000
UID:5c76d9394a0c0
DTSTAMP:20190228T053849
LOCATION:Mercure Hotel Cnr Flemington Rd and Harker St North Melbourne  VIC
DESCRIPTION:
URL;VALUE=URI:http://www.rotarynorthmelbourne.org.au/event/26351
SUMMARY:Meeting
DTSTART:20171102T184500
END:VEVENT
END:VCALENDAR

