

BEGIN:VCALENDAR
VERSION:2.0
PRODID:-//hacksw/handcal//NONSGML v1.0//EN
CALSCALE:GREGORIAN
BEGIN:VEVENT
DTEND:20171020T084500
UID:5c76d9482539b
DTSTAMP:20190228T053904
LOCATION:Mercure Hotel Cnr Flemington Rd and Harker St North Melbourne  VIC
DESCRIPTION:
URL;VALUE=URI:http://www.rotarynorthmelbourne.org.au/event/26349
SUMMARY:Meeting
DTSTART:20171020T074500
END:VEVENT
END:VCALENDAR

