

BEGIN:VCALENDAR
VERSION:2.0
PRODID:-//hacksw/handcal//NONSGML v1.0//EN
CALSCALE:GREGORIAN
BEGIN:VEVENT
DTEND:20170915T084500
UID:5c76d96e4a4f1
DTSTAMP:20190228T053942
LOCATION:Mercure Hotel Cnr Flemington Rd and Harker St North Melbourne  VIC
DESCRIPTION:
URL;VALUE=URI:http://www.rotarynorthmelbourne.org.au/event/26344
SUMMARY:Meeting
DTSTART:20170915T074500
END:VEVENT
END:VCALENDAR

