

BEGIN:VCALENDAR
VERSION:2.0
PRODID:-//hacksw/handcal//NONSGML v1.0//EN
CALSCALE:GREGORIAN
BEGIN:VEVENT
DTEND:20170907T203000
UID:5c76d975eee38
DTSTAMP:20190228T053949
LOCATION:Mercure Hotel Cnr Flemington Rd and Harker St North Melbourne  VIC
DESCRIPTION:
URL;VALUE=URI:http://www.rotarynorthmelbourne.org.au/event/26343
SUMMARY:Meeting
DTSTART:20170907T184500
END:VEVENT
END:VCALENDAR

