

BEGIN:VCALENDAR
VERSION:2.0
PRODID:-//hacksw/handcal//NONSGML v1.0//EN
CALSCALE:GREGORIAN
BEGIN:VEVENT
DTEND:20170825T084500
UID:5c76d9835fae4
DTSTAMP:20190228T054003
LOCATION:Mercure Hotel Cnr Flemington Rd and Harker St North Melbourne  VIC
DESCRIPTION:
URL;VALUE=URI:http://www.rotarynorthmelbourne.org.au/event/26341
SUMMARY:Meeting
DTSTART:20170825T074500
END:VEVENT
END:VCALENDAR

