

BEGIN:VCALENDAR
VERSION:2.0
PRODID:-//hacksw/handcal//NONSGML v1.0//EN
CALSCALE:GREGORIAN
BEGIN:VEVENT
DTEND:20170728T210000
UID:5c76d99ebe051
DTSTAMP:20190228T054030
LOCATION:Mercure Hotel Cnr Flemington Rd and Harker St North Melbourne  VIC
DESCRIPTION:
URL;VALUE=URI:http://www.rotarynorthmelbourne.org.au/event/26337
SUMMARY:Changeover Meeting
DTSTART:20170728T183000
END:VEVENT
END:VCALENDAR

