

BEGIN:VCALENDAR
VERSION:2.0
PRODID:-//hacksw/handcal//NONSGML v1.0//EN
CALSCALE:GREGORIAN
BEGIN:VEVENT
DTEND:20170714T084500
UID:5c76d9acd6fc6
DTSTAMP:20190228T054044
LOCATION:Mercure Hotel Cnr Flemington Rd and Harker St North Melbourne  VIC
DESCRIPTION:
URL;VALUE=URI:http://www.rotarynorthmelbourne.org.au/event/26335
SUMMARY:Meeting
DTSTART:20170714T074500
END:VEVENT
END:VCALENDAR

